Package: fobitools Version: 1.17.0 Command: /Library/Frameworks/R.framework/Resources/bin/R CMD INSTALL fobitools StartedAt: 2025-10-20 15:11:57 -0400 (Mon, 20 Oct 2025) EndedAt: 2025-10-20 15:12:39 -0400 (Mon, 20 Oct 2025) EllapsedTime: 41.6 seconds RetCode: 0 Status: OK