Package: fobitools Version: 1.17.0 Command: rm -rf fobitools.buildbin-libdir && mkdir fobitools.buildbin-libdir && /Users/biocbuild/BBS/utils/build-universal.sh fobitools_1.17.0.tar.gz /Library/Frameworks/R.framework/Resources/bin/R fobitools.buildbin-libdir StartedAt: 2025-10-21 03:12:27 -0400 (Tue, 21 Oct 2025) EndedAt: 2025-10-21 03:12:50 -0400 (Tue, 21 Oct 2025) EllapsedTime: 23.3 seconds RetCode: 0 Status: OK PackageFile: fobitools_1.17.0.tgz PackageFileSize: 4.096 MiB