Package: fobitools Version: 1.17.0 Command: /Library/Frameworks/R.framework/Resources/bin/R CMD check --install=check:fobitools.install-out.txt --library=/Library/Frameworks/R.framework/Resources/library --no-vignettes --timings fobitools_1.17.0.tar.gz StartedAt: 2025-10-19 19:44:43 -0400 (Sun, 19 Oct 2025) EndedAt: 2025-10-19 19:46:12 -0400 (Sun, 19 Oct 2025) EllapsedTime: 89.1 seconds RetCode: 0 Status: OK CheckDir: fobitools.Rcheck Warnings: 0