Package: fobitools Version: 1.17.0 Command: /Library/Frameworks/R.framework/Resources/bin/R CMD build --keep-empty-dirs --no-resave-data fobitools StartedAt: 2025-10-20 16:25:03 -0400 (Mon, 20 Oct 2025) EndedAt: 2025-10-20 16:25:39 -0400 (Mon, 20 Oct 2025) EllapsedTime: 35.4 seconds RetCode: 0 Status: OK PackageFile: fobitools_1.17.0.tar.gz PackageFileSize: 5.993 MiB