Package: fobitools Version: 1.17.0 Command: rm -rf fobitools.buildbin-libdir && mkdir fobitools.buildbin-libdir && /Users/biocbuild/BBS/utils/build-universal.sh fobitools_1.17.0.tar.gz /Library/Frameworks/R.framework/Resources/bin/R fobitools.buildbin-libdir StartedAt: 2025-10-19 22:59:55 -0400 (Sun, 19 Oct 2025) EndedAt: 2025-10-19 23:00:01 -0400 (Sun, 19 Oct 2025) EllapsedTime: 6.1 seconds RetCode: 0 Status: OK PackageFile: fobitools_1.17.0.tgz PackageFileSize: 4.127 MiB