Package: fmrs Version: 1.19.0 Command: /home/biocbuild/R/R/bin/R CMD check --install=check:fmrs.install-out.txt --library=/home/biocbuild/R/R/site-library --no-vignettes --timings fmrs_1.19.0.tar.gz StartedAt: 2025-10-17 09:07:05 -0000 (Fri, 17 Oct 2025) EndedAt: 2025-10-17 09:07:56 -0000 (Fri, 17 Oct 2025) EllapsedTime: 51.0 seconds RetCode: 0 Status: OK CheckDir: fmrs.Rcheck Warnings: 0