Package: fmrs Version: 1.19.0 Command: rm -rf fmrs.buildbin-libdir && mkdir fmrs.buildbin-libdir && F:\biocbuild\bbs-3.22-bioc\R\bin\R.exe CMD INSTALL --build --library=fmrs.buildbin-libdir fmrs_1.19.0.tar.gz StartedAt: 2025-08-15 10:17:50 -0400 (Fri, 15 Aug 2025) EndedAt: 2025-08-15 10:18:26 -0400 (Fri, 15 Aug 2025) EllapsedTime: 36.0 seconds RetCode: 0 Status: OK PackageFile: fmrs_1.19.0.zip PackageFileSize: 211.1 KiB