Package: fmrs Version: 1.19.0 Command: rm -rf fmrs.buildbin-libdir && mkdir fmrs.buildbin-libdir && /Users/biocbuild/BBS/utils/build-universal.sh fmrs_1.19.0.tar.gz /Library/Frameworks/R.framework/Resources/bin/R fmrs.buildbin-libdir StartedAt: 2025-10-10 22:41:31 -0400 (Fri, 10 Oct 2025) EndedAt: 2025-10-10 22:41:36 -0400 (Fri, 10 Oct 2025) EllapsedTime: 5.2 seconds RetCode: 0 Status: OK PackageFile: fmrs_1.19.0.tgz PackageFileSize: 202.6 KiB