Package: fmcsR Version: 1.51.0 Command: /Library/Frameworks/R.framework/Resources/bin/R CMD INSTALL fmcsR StartedAt: 2025-10-20 15:14:22 -0400 (Mon, 20 Oct 2025) EndedAt: 2025-10-20 15:14:57 -0400 (Mon, 20 Oct 2025) EllapsedTime: 35.0 seconds RetCode: 0 Status: OK