Package: fmcsR Version: 1.51.0 Command: /Library/Frameworks/R.framework/Resources/bin/R CMD build --keep-empty-dirs --no-resave-data fmcsR StartedAt: 2025-10-19 17:14:48 -0400 (Sun, 19 Oct 2025) EndedAt: 2025-10-19 17:16:09 -0400 (Sun, 19 Oct 2025) EllapsedTime: 81.2 seconds RetCode: 0 Status: OK PackageFile: fmcsR_1.51.0.tar.gz PackageFileSize: 864.6 KiB