Package: fmcsR Version: 1.51.0 Command: /Library/Frameworks/R.framework/Resources/bin/R CMD check --install=check:fmcsR.install-out.txt --library=/Library/Frameworks/R.framework/Resources/library --no-vignettes --timings fmcsR_1.51.0.tar.gz StartedAt: 2025-10-20 19:46:32 -0400 (Mon, 20 Oct 2025) EndedAt: 2025-10-20 19:47:03 -0400 (Mon, 20 Oct 2025) EllapsedTime: 31.4 seconds RetCode: 0 Status: OK CheckDir: fmcsR.Rcheck Warnings: 0