Package: flowWorkspace Version: 4.21.0 Command: /home/biocbuild/R/R/bin/R CMD INSTALL flowWorkspace StartedAt: 2025-09-29 20:48:48 -0000 (Mon, 29 Sep 2025) EndedAt: 2025-09-29 20:51:58 -0000 (Mon, 29 Sep 2025) EllapsedTime: 189.8 seconds RetCode: 0 Status: OK