Package: flowWorkspace Version: 4.21.0 Command: /home/biocbuild/R/R/bin/R CMD check --install=check:flowWorkspace.install-out.txt --library=/home/biocbuild/R/R/site-library --no-vignettes --timings flowWorkspace_4.21.0.tar.gz StartedAt: 2025-09-30 08:24:53 -0000 (Tue, 30 Sep 2025) EndedAt: 2025-09-30 08:28:37 -0000 (Tue, 30 Sep 2025) EllapsedTime: 223.3 seconds RetCode: 0 Status: WARNINGS CheckDir: flowWorkspace.Rcheck Warnings: 5