Package: flowWorkspace Version: 4.21.0 Command: /home/biocbuild/R/R/bin/R CMD build --keep-empty-dirs --no-resave-data flowWorkspace StartedAt: 2025-09-30 00:01:58 -0000 (Tue, 30 Sep 2025) EndedAt: 2025-09-30 00:06:01 -0000 (Tue, 30 Sep 2025) EllapsedTime: 243.1 seconds RetCode: 0 Status: OK PackageFile: flowWorkspace_4.21.0.tar.gz PackageFileSize: 4.131 MiB