Package: flowViz Version: 1.73.0 Command: rm -rf flowViz.buildbin-libdir && mkdir flowViz.buildbin-libdir && F:\biocbuild\bbs-3.22-bioc\R\bin\R.exe CMD INSTALL --build --library=flowViz.buildbin-libdir flowViz_1.73.0.tar.gz StartedAt: 2025-08-15 10:17:34 -0400 (Fri, 15 Aug 2025) EndedAt: 2025-08-15 10:18:16 -0400 (Fri, 15 Aug 2025) EllapsedTime: 42.3 seconds RetCode: 0 Status: OK PackageFile: flowViz_1.73.0.zip PackageFileSize: 954 KiB