Package: flowViz Version: 1.73.0 Command: /home/biocbuild/bbs-3.22-bioc/R/bin/R CMD INSTALL flowViz StartedAt: 2025-10-19 15:14:43 -0400 (Sun, 19 Oct 2025) EndedAt: 2025-10-19 15:14:54 -0400 (Sun, 19 Oct 2025) EllapsedTime: 10.5 seconds RetCode: 0 Status: OK