Package: flowViz Version: 1.73.0 Command: /home/biocbuild/bbs-3.22-bioc/R/bin/R CMD build --keep-empty-dirs --no-resave-data --md5 flowViz StartedAt: 2025-10-19 17:41:57 -0400 (Sun, 19 Oct 2025) EndedAt: 2025-10-19 17:43:10 -0400 (Sun, 19 Oct 2025) EllapsedTime: 73.1 seconds RetCode: 0 Status: OK PackageFile: flowViz_1.73.0.tar.gz PackageFileSize: 991.8 KiB