Package: flowViz Version: 1.73.0 Command: /Library/Frameworks/R.framework/Resources/bin/R CMD INSTALL flowViz StartedAt: 2025-10-19 15:17:19 -0400 (Sun, 19 Oct 2025) EndedAt: 2025-10-19 15:17:38 -0400 (Sun, 19 Oct 2025) EllapsedTime: 18.4 seconds RetCode: 0 Status: OK