Package: flowViz Version: 1.73.0 Command: /Library/Frameworks/R.framework/Resources/bin/R CMD check --install=check:flowViz.install-out.txt --library=/Library/Frameworks/R.framework/Resources/library --no-vignettes --timings flowViz_1.73.0.tar.gz StartedAt: 2025-10-19 22:23:52 -0400 (Sun, 19 Oct 2025) EndedAt: 2025-10-19 22:27:17 -0400 (Sun, 19 Oct 2025) EllapsedTime: 205.1 seconds RetCode: 0 Status: OK CheckDir: flowViz.Rcheck Warnings: 0