Package: flowViz Version: 1.73.0 Command: /Library/Frameworks/R.framework/Resources/bin/R CMD build --keep-empty-dirs --no-resave-data flowViz StartedAt: 2025-10-19 17:14:38 -0400 (Sun, 19 Oct 2025) EndedAt: 2025-10-19 17:16:07 -0400 (Sun, 19 Oct 2025) EllapsedTime: 89.2 seconds RetCode: 0 Status: OK PackageFile: flowViz_1.73.0.tar.gz PackageFileSize: 1.183 MiB