Package: flowVS Version: 1.41.0 Command: /home/biocbuild/R/R/bin/R CMD INSTALL flowVS StartedAt: 2025-10-23 20:59:33 -0000 (Thu, 23 Oct 2025) EndedAt: 2025-10-23 20:59:55 -0000 (Thu, 23 Oct 2025) EllapsedTime: 22.0 seconds RetCode: 0 Status: OK