Package: flowVS Version: 1.41.0 Command: F:\biocbuild\bbs-3.22-bioc\R\bin\R.exe CMD check --no-multiarch --install=check:flowVS.install-out.txt --library=F:\biocbuild\bbs-3.22-bioc\R\library --no-vignettes --timings flowVS_1.41.0.tar.gz StartedAt: 2025-08-15 03:20:33 -0400 (Fri, 15 Aug 2025) EndedAt: 2025-08-15 03:22:58 -0400 (Fri, 15 Aug 2025) EllapsedTime: 145.0 seconds RetCode: 0 Status: OK CheckDir: flowVS.Rcheck Warnings: 0