Package: flowVS Version: 1.41.0 Command: /home/biocbuild/bbs-3.22-bioc/R/bin/R CMD INSTALL flowVS StartedAt: 2025-10-17 15:34:11 -0400 (Fri, 17 Oct 2025) EndedAt: 2025-10-17 15:34:27 -0400 (Fri, 17 Oct 2025) EllapsedTime: 15.9 seconds RetCode: 0 Status: OK