Package: flowVS Version: 1.41.0 Command: /Library/Frameworks/R.framework/Resources/bin/R CMD check --install=check:flowVS.install-out.txt --library=/Library/Frameworks/R.framework/Resources/library --no-vignettes --timings flowVS_1.41.0.tar.gz StartedAt: 2025-10-19 22:23:56 -0400 (Sun, 19 Oct 2025) EndedAt: 2025-10-19 22:27:17 -0400 (Sun, 19 Oct 2025) EllapsedTime: 200.4 seconds RetCode: 0 Status: OK CheckDir: flowVS.Rcheck Warnings: 0