Package: flowTrans Version: 1.61.0 Command: /home/biocbuild/R/R/bin/R CMD INSTALL flowTrans StartedAt: 2025-10-16 21:28:21 -0000 (Thu, 16 Oct 2025) EndedAt: 2025-10-16 21:28:34 -0000 (Thu, 16 Oct 2025) EllapsedTime: 12.3 seconds RetCode: 0 Status: OK