Package: flowTrans Version: 1.61.0 Command: /home/biocbuild/R/R/bin/R CMD build --keep-empty-dirs --no-resave-data flowTrans StartedAt: 2025-10-20 23:50:12 -0000 (Mon, 20 Oct 2025) EndedAt: 2025-10-20 23:50:41 -0000 (Mon, 20 Oct 2025) EllapsedTime: 29.0 seconds RetCode: 0 Status: OK PackageFile: flowTrans_1.61.0.tar.gz PackageFileSize: 474.6 KiB