Package: flowTrans Version: 1.61.0 Command: chmod a+r flowTrans -R && F:\biocbuild\bbs-3.22-bioc\R\bin\R.exe CMD build --keep-empty-dirs --no-resave-data flowTrans StartedAt: 2025-08-14 20:17:14 -0400 (Thu, 14 Aug 2025) EndedAt: 2025-08-14 20:17:38 -0400 (Thu, 14 Aug 2025) EllapsedTime: 24.0 seconds RetCode: 0 Status: OK PackageFile: flowTrans_1.61.0.tar.gz PackageFileSize: 373 KiB