Package: flowTrans Version: 1.61.0 Command: rm -rf flowTrans.buildbin-libdir && mkdir flowTrans.buildbin-libdir && F:\biocbuild\bbs-3.22-bioc\R\bin\R.exe CMD INSTALL --build --library=flowTrans.buildbin-libdir flowTrans_1.61.0.tar.gz StartedAt: 2025-08-15 10:17:32 -0400 (Fri, 15 Aug 2025) EndedAt: 2025-08-15 10:17:56 -0400 (Fri, 15 Aug 2025) EllapsedTime: 23.6 seconds RetCode: 0 Status: OK PackageFile: flowTrans_1.61.0.zip PackageFileSize: 418.6 KiB