Package: flowTrans Version: 1.61.0 Command: /Library/Frameworks/R.framework/Resources/bin/R CMD INSTALL flowTrans StartedAt: 2025-10-19 15:11:25 -0400 (Sun, 19 Oct 2025) EndedAt: 2025-10-19 15:11:28 -0400 (Sun, 19 Oct 2025) EllapsedTime: 3.1 seconds RetCode: 0 Status: OK