Package: flowTrans Version: 1.61.0 Command: /Library/Frameworks/R.framework/Resources/bin/R CMD check --install=check:flowTrans.install-out.txt --library=/Library/Frameworks/R.framework/Resources/library --no-vignettes --timings flowTrans_1.61.0.tar.gz StartedAt: 2025-10-19 19:44:16 -0400 (Sun, 19 Oct 2025) EndedAt: 2025-10-19 19:44:43 -0400 (Sun, 19 Oct 2025) EllapsedTime: 26.3 seconds RetCode: 0 Status: OK CheckDir: flowTrans.Rcheck Warnings: 0