Package: flowTrans Version: 1.61.0 Command: rm -rf flowTrans.buildbin-libdir && mkdir flowTrans.buildbin-libdir && /Users/biocbuild/BBS/utils/build-universal.sh flowTrans_1.61.0.tar.gz /Library/Frameworks/R.framework/Resources/bin/R flowTrans.buildbin-libdir StartedAt: 2025-10-19 22:59:52 -0400 (Sun, 19 Oct 2025) EndedAt: 2025-10-19 22:59:56 -0400 (Sun, 19 Oct 2025) EllapsedTime: 4.1 seconds RetCode: 0 Status: OK PackageFile: flowTrans_1.61.0.tgz PackageFileSize: 524.1 KiB