Package: flowStats Version: 4.21.0 Command: /home/biocbuild/R/R/bin/R CMD INSTALL flowStats StartedAt: 2025-10-16 21:53:47 -0000 (Thu, 16 Oct 2025) EndedAt: 2025-10-16 21:54:21 -0000 (Thu, 16 Oct 2025) EllapsedTime: 34.7 seconds RetCode: 0 Status: OK