Package: flowStats Version: 4.21.0 Command: /home/biocbuild/R/R/bin/R CMD build --keep-empty-dirs --no-resave-data flowStats StartedAt: 2025-10-17 01:16:23 -0000 (Fri, 17 Oct 2025) EndedAt: 2025-10-17 01:18:43 -0000 (Fri, 17 Oct 2025) EllapsedTime: 139.1 seconds RetCode: 0 Status: OK PackageFile: flowStats_4.21.0.tar.gz PackageFileSize: 10.96 MiB