Package: flowStats Version: 4.21.0 Command: F:\biocbuild\bbs-3.22-bioc\R\bin\R.exe CMD INSTALL flowStats StartedAt: 2025-08-14 16:20:18 -0400 (Thu, 14 Aug 2025) EndedAt: 2025-08-14 16:21:19 -0400 (Thu, 14 Aug 2025) EllapsedTime: 61.1 seconds RetCode: 0 Status: OK