Package: flowStats Version: 4.21.0 Command: chmod a+r flowStats -R && F:\biocbuild\bbs-3.22-bioc\R\bin\R.exe CMD build --keep-empty-dirs --no-resave-data flowStats StartedAt: 2025-08-14 20:16:55 -0400 (Thu, 14 Aug 2025) EndedAt: 2025-08-14 20:19:10 -0400 (Thu, 14 Aug 2025) EllapsedTime: 135.2 seconds RetCode: 0 Status: OK PackageFile: flowStats_4.21.0.tar.gz PackageFileSize: 10.96 MiB