Package: flowStats Version: 4.21.0 Command: rm -rf flowStats.buildbin-libdir && mkdir flowStats.buildbin-libdir && F:\biocbuild\bbs-3.22-bioc\R\bin\R.exe CMD INSTALL --build --library=flowStats.buildbin-libdir flowStats_4.21.0.tar.gz StartedAt: 2025-08-15 10:17:28 -0400 (Fri, 15 Aug 2025) EndedAt: 2025-08-15 10:18:44 -0400 (Fri, 15 Aug 2025) EllapsedTime: 75.7 seconds RetCode: 0 Status: OK PackageFile: flowStats_4.21.0.zip PackageFileSize: 11.69 MiB