Package: flowStats Version: 4.21.0 Command: /Library/Frameworks/R.framework/Resources/bin/R CMD INSTALL flowStats StartedAt: 2025-10-20 15:10:06 -0400 (Mon, 20 Oct 2025) EndedAt: 2025-10-20 15:10:16 -0400 (Mon, 20 Oct 2025) EllapsedTime: 10.0 seconds RetCode: 0 Status: OK