Package: flowStats Version: 4.21.0 Command: /Library/Frameworks/R.framework/Resources/bin/R CMD check --install=check:flowStats.install-out.txt --library=/Library/Frameworks/R.framework/Resources/library --no-vignettes --timings flowStats_4.21.0.tar.gz StartedAt: 2025-10-19 19:44:08 -0400 (Sun, 19 Oct 2025) EndedAt: 2025-10-19 19:45:19 -0400 (Sun, 19 Oct 2025) EllapsedTime: 70.9 seconds RetCode: 0 Status: WARNINGS CheckDir: flowStats.Rcheck Warnings: 4