Package: flowStats Version: 4.21.0 Command: /Library/Frameworks/R.framework/Resources/bin/R CMD build --keep-empty-dirs --no-resave-data flowStats StartedAt: 2025-10-19 16:24:32 -0400 (Sun, 19 Oct 2025) EndedAt: 2025-10-19 16:25:15 -0400 (Sun, 19 Oct 2025) EllapsedTime: 42.6 seconds RetCode: 0 Status: OK PackageFile: flowStats_4.21.0.tar.gz PackageFileSize: 10.97 MiB