Package: flowStats Version: 4.21.0 Command: rm -rf flowStats.buildbin-libdir && mkdir flowStats.buildbin-libdir && /Users/biocbuild/BBS/utils/build-universal.sh flowStats_4.21.0.tar.gz /Library/Frameworks/R.framework/Resources/bin/R flowStats.buildbin-libdir StartedAt: 2025-10-19 22:59:50 -0400 (Sun, 19 Oct 2025) EndedAt: 2025-10-19 23:00:01 -0400 (Sun, 19 Oct 2025) EllapsedTime: 11.2 seconds RetCode: 0 Status: OK PackageFile: flowStats_4.21.0.tgz PackageFileSize: 11.71 MiB