Package: flowSpecs Version: 1.23.0 Command: rm -rf flowSpecs.buildbin-libdir && mkdir flowSpecs.buildbin-libdir && F:\biocbuild\bbs-3.22-bioc\R\bin\R.exe CMD INSTALL --build --library=flowSpecs.buildbin-libdir flowSpecs_1.23.0.tar.gz StartedAt: 2025-08-15 10:17:27 -0400 (Fri, 15 Aug 2025) EndedAt: 2025-08-15 10:17:57 -0400 (Fri, 15 Aug 2025) EllapsedTime: 30.6 seconds RetCode: 0 Status: OK PackageFile: flowSpecs_1.23.0.zip PackageFileSize: 3.314 MiB