Package: flowSpecs Version: 1.23.0 Command: /Library/Frameworks/R.framework/Resources/bin/R CMD INSTALL flowSpecs StartedAt: 2025-10-23 15:15:55 -0400 (Thu, 23 Oct 2025) EndedAt: 2025-10-23 15:16:09 -0400 (Thu, 23 Oct 2025) EllapsedTime: 14.2 seconds RetCode: 0 Status: OK