Package: flowSpecs Version: 1.23.0 Command: /Library/Frameworks/R.framework/Resources/bin/R CMD build --keep-empty-dirs --no-resave-data flowSpecs StartedAt: 2025-10-23 17:00:19 -0400 (Thu, 23 Oct 2025) EndedAt: 2025-10-23 17:00:58 -0400 (Thu, 23 Oct 2025) EllapsedTime: 38.8 seconds RetCode: 0 Status: OK PackageFile: flowSpecs_1.23.0.tar.gz PackageFileSize: 4.748 MiB