Package: flowSpecs Version: 1.24.0 Command: /Library/Frameworks/R.framework/Resources/bin/R CMD INSTALL flowSpecs StartedAt: 2025-10-31 15:11:12 -0400 (Fri, 31 Oct 2025) EndedAt: 2025-10-31 15:11:17 -0400 (Fri, 31 Oct 2025) EllapsedTime: 4.1 seconds RetCode: 0 Status: OK