Package: flowSpecs Version: 1.24.0 Command: rm -rf flowSpecs.buildbin-libdir && mkdir flowSpecs.buildbin-libdir && /Users/biocbuild/BBS/utils/build-universal.sh flowSpecs_1.24.0.tar.gz /Library/Frameworks/R.framework/Resources/bin/R flowSpecs.buildbin-libdir StartedAt: 2025-11-02 23:05:08 -0500 (Sun, 02 Nov 2025) EndedAt: 2025-11-02 23:05:13 -0500 (Sun, 02 Nov 2025) EllapsedTime: 5.1 seconds RetCode: 0 Status: OK PackageFile: flowSpecs_1.24.0.tgz PackageFileSize: 4.8 MiB