Package: flowPlots Version: 1.57.0 Command: /home/biocbuild/R/R/bin/R CMD INSTALL flowPlots StartedAt: 2025-09-29 20:30:03 -0000 (Mon, 29 Sep 2025) EndedAt: 2025-09-29 20:30:38 -0000 (Mon, 29 Sep 2025) EllapsedTime: 34.7 seconds RetCode: 0 Status: OK