Package: flowPlots Version: 1.57.0 Command: /home/biocbuild/R/R/bin/R CMD build --keep-empty-dirs --no-resave-data flowPlots StartedAt: 2025-10-03 00:01:03 -0000 (Fri, 03 Oct 2025) EndedAt: 2025-10-03 00:01:17 -0000 (Fri, 03 Oct 2025) EllapsedTime: 14.0 seconds RetCode: 0 Status: OK PackageFile: flowPlots_1.57.0.tar.gz PackageFileSize: 629.5 KiB