Package: flowPlots Version: 1.57.0 Command: /Library/Frameworks/R.framework/Resources/bin/R CMD INSTALL flowPlots StartedAt: 2025-10-19 15:06:26 -0400 (Sun, 19 Oct 2025) EndedAt: 2025-10-19 15:07:07 -0400 (Sun, 19 Oct 2025) EllapsedTime: 41.3 seconds RetCode: 0 Status: OK