Package: flowPlots Version: 1.57.0 Command: /Library/Frameworks/R.framework/Resources/bin/R CMD check --install=check:flowPlots.install-out.txt --library=/Library/Frameworks/R.framework/Resources/library --no-vignettes --timings flowPlots_1.57.0.tar.gz StartedAt: 2025-10-19 22:22:58 -0400 (Sun, 19 Oct 2025) EndedAt: 2025-10-19 22:23:59 -0400 (Sun, 19 Oct 2025) EllapsedTime: 60.4 seconds RetCode: 0 Status: OK CheckDir: flowPlots.Rcheck Warnings: 0