Package: flowPlots Version: 1.57.0 Command: /Library/Frameworks/R.framework/Resources/bin/R CMD INSTALL flowPlots StartedAt: 2025-10-02 15:01:58 -0400 (Thu, 02 Oct 2025) EndedAt: 2025-10-02 15:02:00 -0400 (Thu, 02 Oct 2025) EllapsedTime: 2.4 seconds RetCode: 0 Status: OK